Package: trigger Version: 1.52.0 Command: /home/biocbuild/R/R/bin/R CMD INSTALL trigger StartedAt: 2025-02-03 21:10:16 -0000 (Mon, 03 Feb 2025) EndedAt: 2025-02-03 21:10:49 -0000 (Mon, 03 Feb 2025) EllapsedTime: 33.1 seconds RetCode: 0 Status: OK