Package: trio Version: 3.44.0 Command: /Library/Frameworks/R.framework/Resources/bin/R CMD check --install=check:trio.install-out.txt --library=/Library/Frameworks/R.framework/Resources/library --no-vignettes --timings trio_3.44.0.tar.gz StartedAt: 2025-02-05 13:31:08 -0500 (Wed, 05 Feb 2025) EndedAt: 2025-02-05 13:33:49 -0500 (Wed, 05 Feb 2025) EllapsedTime: 161.4 seconds RetCode: 0 Status: OK CheckDir: trio.Rcheck Warnings: 0