Package: trio Version: 3.44.0 Command: rm -rf trio.buildbin-libdir && mkdir trio.buildbin-libdir && /Users/biocbuild/BBS/utils/build-universal.sh trio_3.44.0.tar.gz /Library/Frameworks/R.framework/Resources/bin/R trio.buildbin-libdir StartedAt: 2025-01-31 13:53:10 -0500 (Fri, 31 Jan 2025) EndedAt: 2025-01-31 13:54:15 -0500 (Fri, 31 Jan 2025) EllapsedTime: 65.3 seconds RetCode: 0 Status: OK PackageFile: trio_3.44.0.tgz PackageFileSize: 1.604 MiB