Package: trio Version: 3.44.0 Command: /Library/Frameworks/R.framework/Resources/bin/R CMD build --keep-empty-dirs --no-resave-data trio StartedAt: 2025-02-03 23:01:41 -0500 (Mon, 03 Feb 2025) EndedAt: 2025-02-03 23:04:02 -0500 (Mon, 03 Feb 2025) EllapsedTime: 141.0 seconds RetCode: 0 Status: OK PackageFile: trio_3.44.0.tar.gz PackageFileSize: 747.9 KiB