Package: trio Version: 3.44.0 Command: /home/biocbuild/bbs-3.20-bioc/R/bin/R CMD check --install=check:trio.install-out.txt --library=/home/biocbuild/bbs-3.20-bioc/R/site-library --timings trio_3.44.0.tar.gz StartedAt: 2025-02-04 03:22:21 -0500 (Tue, 04 Feb 2025) EndedAt: 2025-02-04 03:24:50 -0500 (Tue, 04 Feb 2025) EllapsedTime: 149.1 seconds RetCode: 0 Status: OK CheckDir: trio.Rcheck Warnings: 0