Package: trio Version: 3.44.0 Command: F:\biocbuild\bbs-3.20-bioc\R\bin\R.exe CMD INSTALL trio StartedAt: 2025-02-03 16:13:43 -0500 (Mon, 03 Feb 2025) EndedAt: 2025-02-03 16:14:33 -0500 (Mon, 03 Feb 2025) EllapsedTime: 50.3 seconds RetCode: 0 Status: OK