Package: trio Version: 3.44.0 Command: /home/biocbuild/R/R/bin/R CMD build --keep-empty-dirs --no-resave-data trio StartedAt: 2025-02-04 03:40:04 -0000 (Tue, 04 Feb 2025) EndedAt: 2025-02-04 03:41:35 -0000 (Tue, 04 Feb 2025) EllapsedTime: 91.1 seconds RetCode: 0 Status: OK PackageFile: trio_3.44.0.tar.gz PackageFileSize: 737.4 KiB