Package: trio Version: 3.44.0 Command: /home/biocbuild/R/R/bin/R CMD check --install=check:trio.install-out.txt --library=/home/biocbuild/R/R/site-library --no-vignettes --timings trio_3.44.0.tar.gz StartedAt: 2025-02-04 11:55:16 -0000 (Tue, 04 Feb 2025) EndedAt: 2025-02-04 11:58:00 -0000 (Tue, 04 Feb 2025) EllapsedTime: 164.2 seconds RetCode: 0 Status: OK CheckDir: trio.Rcheck Warnings: 0