Package: tripr Version: 1.12.0 Command: rm -rf tripr.buildbin-libdir && mkdir tripr.buildbin-libdir && /Users/biocbuild/BBS/utils/build-universal.sh tripr_1.12.0.tar.gz /Library/Frameworks/R.framework/Resources/bin/R tripr.buildbin-libdir StartedAt: 2025-01-31 13:53:20 -0500 (Fri, 31 Jan 2025) EndedAt: 2025-01-31 13:54:47 -0500 (Fri, 31 Jan 2025) EllapsedTime: 86.8 seconds RetCode: 0 Status: OK PackageFile: tripr_1.12.0.tgz PackageFileSize: 4.094 MiB