Package: tripr Version: 1.12.0 Command: /Library/Frameworks/R.framework/Resources/bin/R CMD check --install=check:tripr.install-out.txt --library=/Library/Frameworks/R.framework/Resources/library --no-vignettes --timings tripr_1.12.0.tar.gz StartedAt: 2025-02-04 11:34:40 -0500 (Tue, 04 Feb 2025) EndedAt: 2025-02-04 11:40:36 -0500 (Tue, 04 Feb 2025) EllapsedTime: 355.7 seconds RetCode: 0 Status: WARNINGS CheckDir: tripr.Rcheck Warnings: 1