Package: tripr Version: 1.12.0 Command: /home/biocbuild/bbs-3.20-bioc/R/bin/R CMD INSTALL tripr StartedAt: 2025-02-03 15:43:39 -0500 (Mon, 03 Feb 2025) EndedAt: 2025-02-03 15:44:09 -0500 (Mon, 03 Feb 2025) EllapsedTime: 29.2 seconds RetCode: 0 Status: OK