Package: tripr Version: 1.12.0 Command: /home/biocbuild/R/R/bin/R CMD build --keep-empty-dirs --no-resave-data tripr StartedAt: 2025-02-11 03:13:15 -0000 (Tue, 11 Feb 2025) EndedAt: 2025-02-11 03:14:04 -0000 (Tue, 11 Feb 2025) EllapsedTime: 49.0 seconds RetCode: 0 Status: OK PackageFile: tripr_1.12.0.tar.gz PackageFileSize: 3.002 MiB