Package: tweeDEseq Version: 1.52.0 Command: /Library/Frameworks/R.framework/Resources/bin/R CMD INSTALL tweeDEseq StartedAt: 2025-02-03 17:33:55 -0500 (Mon, 03 Feb 2025) EndedAt: 2025-02-03 17:34:07 -0500 (Mon, 03 Feb 2025) EllapsedTime: 11.2 seconds RetCode: 0 Status: OK