Package: tweeDEseq Version: 1.52.0 Command: /Library/Frameworks/R.framework/Resources/bin/R CMD build --keep-empty-dirs --no-resave-data tweeDEseq StartedAt: 2025-02-03 23:03:59 -0500 (Mon, 03 Feb 2025) EndedAt: 2025-02-03 23:19:27 -0500 (Mon, 03 Feb 2025) EllapsedTime: 928.2 seconds RetCode: 0 Status: OK PackageFile: tweeDEseq_1.52.0.tar.gz PackageFileSize: 233.5 KiB