Package: tweeDEseq Version: 1.52.0 Command: /Library/Frameworks/R.framework/Resources/bin/R CMD check --install=check:tweeDEseq.install-out.txt --library=/Library/Frameworks/R.framework/Resources/library --no-vignettes --timings tweeDEseq_1.52.0.tar.gz StartedAt: 2025-02-04 11:40:19 -0500 (Tue, 04 Feb 2025) EndedAt: 2025-02-04 11:42:47 -0500 (Tue, 04 Feb 2025) EllapsedTime: 147.8 seconds RetCode: 0 Status: WARNINGS CheckDir: tweeDEseq.Rcheck Warnings: 1