Package: tweeDEseq Version: 1.52.0 Command: chmod a+r tweeDEseq -R && F:\biocbuild\bbs-3.20-bioc\R\bin\R.exe CMD build --keep-empty-dirs --no-resave-data tweeDEseq StartedAt: 2025-02-03 22:42:52 -0500 (Mon, 03 Feb 2025) EndedAt: 2025-02-03 22:52:33 -0500 (Mon, 03 Feb 2025) EllapsedTime: 580.7 seconds RetCode: 0 Status: OK PackageFile: tweeDEseq_1.52.0.tar.gz PackageFileSize: 234.6 KiB