Package: tweeDEseq Version: 1.52.0 Command: F:\biocbuild\bbs-3.20-bioc\R\bin\R.exe CMD check --no-multiarch --install=check:tweeDEseq.install-out.txt --library=F:\biocbuild\bbs-3.20-bioc\R\library --no-vignettes --timings tweeDEseq_1.52.0.tar.gz StartedAt: 2025-01-31 07:31:02 -0500 (Fri, 31 Jan 2025) EndedAt: 2025-01-31 07:32:24 -0500 (Fri, 31 Jan 2025) EllapsedTime: 82.3 seconds RetCode: 0 Status: WARNINGS CheckDir: tweeDEseq.Rcheck Warnings: 1