Package: tweeDEseq Version: 1.52.0 Command: /home/biocbuild/R/R/bin/R CMD build --keep-empty-dirs --no-resave-data tweeDEseq StartedAt: 2025-02-04 03:42:41 -0000 (Tue, 04 Feb 2025) EndedAt: 2025-02-04 03:59:10 -0000 (Tue, 04 Feb 2025) EllapsedTime: 989.0 seconds RetCode: 0 Status: OK PackageFile: tweeDEseq_1.52.0.tar.gz PackageFileSize: 227.4 KiB