Package: tweeDEseq Version: 1.52.0 Command: /home/biocbuild/R/R/bin/R CMD INSTALL tweeDEseq StartedAt: 2025-02-03 21:12:14 -0000 (Mon, 03 Feb 2025) EndedAt: 2025-02-03 21:12:26 -0000 (Mon, 03 Feb 2025) EllapsedTime: 11.3 seconds RetCode: 0 Status: OK