Package: twilight Version: 1.82.0 Command: /Library/Frameworks/R.framework/Resources/bin/R CMD INSTALL twilight StartedAt: 2025-01-30 15:09:18 -0500 (Thu, 30 Jan 2025) EndedAt: 2025-01-30 15:09:24 -0500 (Thu, 30 Jan 2025) EllapsedTime: 5.9 seconds RetCode: 0 Status: OK