Package: twilight Version: 1.82.0 Command: /Library/Frameworks/R.framework/Resources/bin/R CMD check --install=check:twilight.install-out.txt --library=/Library/Frameworks/R.framework/Resources/library --no-vignettes --timings twilight_1.82.0.tar.gz StartedAt: 2025-02-04 11:40:36 -0500 (Tue, 04 Feb 2025) EndedAt: 2025-02-04 11:41:43 -0500 (Tue, 04 Feb 2025) EllapsedTime: 67.5 seconds RetCode: 0 Status: WARNINGS CheckDir: twilight.Rcheck Warnings: 1