Package: twilight Version: 1.82.0 Command: /home/biocbuild/bbs-3.20-bioc/R/bin/R CMD check --install=check:twilight.install-out.txt --library=/home/biocbuild/bbs-3.20-bioc/R/site-library --timings twilight_1.82.0.tar.gz StartedAt: 2025-02-04 03:25:21 -0500 (Tue, 04 Feb 2025) EndedAt: 2025-02-04 03:26:54 -0500 (Tue, 04 Feb 2025) EllapsedTime: 93.1 seconds RetCode: 0 Status: OK CheckDir: twilight.Rcheck Warnings: 0