Package: twilight Version: 1.82.0 Command: rm -rf twilight.buildbin-libdir && mkdir twilight.buildbin-libdir && F:\biocbuild\bbs-3.20-bioc\R\bin\R.exe CMD INSTALL --build --library=twilight.buildbin-libdir twilight_1.82.0.tar.gz StartedAt: 2025-02-04 09:44:01 -0500 (Tue, 04 Feb 2025) EndedAt: 2025-02-04 09:44:22 -0500 (Tue, 04 Feb 2025) EllapsedTime: 21.9 seconds RetCode: 0 Status: OK PackageFile: twilight_1.82.0.zip PackageFileSize: 981.2 KiB