Package: twilight Version: 1.82.0 Command: /home/biocbuild/R/R/bin/R CMD build --keep-empty-dirs --no-resave-data twilight StartedAt: 2025-02-04 03:42:46 -0000 (Tue, 04 Feb 2025) EndedAt: 2025-02-04 03:44:24 -0000 (Tue, 04 Feb 2025) EllapsedTime: 98.1 seconds RetCode: 0 Status: OK PackageFile: twilight_1.82.0.tar.gz PackageFileSize: 1.181 MiB