Package: twilight Version: 1.82.0 Command: /home/biocbuild/R/R/bin/R CMD INSTALL twilight StartedAt: 2025-01-30 20:08:37 -0000 (Thu, 30 Jan 2025) EndedAt: 2025-01-30 20:09:01 -0000 (Thu, 30 Jan 2025) EllapsedTime: 24.3 seconds RetCode: 0 Status: OK