Package: twoddpcr Version: 1.30.0 Command: rm -rf twoddpcr.buildbin-libdir && mkdir twoddpcr.buildbin-libdir && /Users/biocbuild/BBS/utils/build-universal.sh twoddpcr_1.30.0.tar.gz /Library/Frameworks/R.framework/Resources/bin/R twoddpcr.buildbin-libdir StartedAt: 2025-02-05 18:12:27 -0500 (Wed, 05 Feb 2025) EndedAt: 2025-02-05 18:12:43 -0500 (Wed, 05 Feb 2025) EllapsedTime: 15.9 seconds RetCode: 0 Status: OK PackageFile: twoddpcr_1.30.0.tgz PackageFileSize: 5.067 MiB