Package: twoddpcr Version: 1.30.0 Command: /Library/Frameworks/R.framework/Resources/bin/R CMD build --keep-empty-dirs --no-resave-data twoddpcr StartedAt: 2025-02-04 10:10:15 -0500 (Tue, 04 Feb 2025) EndedAt: 2025-02-04 10:13:00 -0500 (Tue, 04 Feb 2025) EllapsedTime: 164.9 seconds RetCode: 0 Status: OK PackageFile: twoddpcr_1.30.0.tar.gz PackageFileSize: 4.243 MiB