Package: twoddpcr Version: 1.30.0 Command: /Library/Frameworks/R.framework/Resources/bin/R CMD check --install=check:twoddpcr.install-out.txt --library=/Library/Frameworks/R.framework/Resources/library --no-vignettes --timings twoddpcr_1.30.0.tar.gz StartedAt: 2025-02-12 12:54:45 -0500 (Wed, 12 Feb 2025) EndedAt: 2025-02-12 12:57:07 -0500 (Wed, 12 Feb 2025) EllapsedTime: 142.5 seconds RetCode: 0 Status: OK CheckDir: twoddpcr.Rcheck Warnings: 0