Package: twoddpcr Version: 1.30.0 Command: rm -rf twoddpcr.buildbin-libdir && mkdir twoddpcr.buildbin-libdir && /Users/biocbuild/BBS/utils/build-universal.sh twoddpcr_1.30.0.tar.gz /Library/Frameworks/R.framework/Resources/bin/R twoddpcr.buildbin-libdir StartedAt: 2025-02-11 14:46:01 -0500 (Tue, 11 Feb 2025) EndedAt: 2025-02-11 14:46:34 -0500 (Tue, 11 Feb 2025) EllapsedTime: 33.0 seconds RetCode: 0 Status: OK PackageFile: twoddpcr_1.30.0.tgz PackageFileSize: 4.793 MiB