Package: twoddpcr Version: 1.30.0 Command: /Library/Frameworks/R.framework/Resources/bin/R CMD build --keep-empty-dirs --no-resave-data twoddpcr StartedAt: 2025-02-03 23:04:05 -0500 (Mon, 03 Feb 2025) EndedAt: 2025-02-03 23:10:23 -0500 (Mon, 03 Feb 2025) EllapsedTime: 377.9 seconds RetCode: 0 Status: OK PackageFile: twoddpcr_1.30.0.tar.gz PackageFileSize: 3.968 MiB