Package: twoddpcr Version: 1.30.0 Command: /Library/Frameworks/R.framework/Resources/bin/R CMD check --install=check:twoddpcr.install-out.txt --library=/Library/Frameworks/R.framework/Resources/library --no-vignettes --timings twoddpcr_1.30.0.tar.gz StartedAt: 2025-02-04 11:40:37 -0500 (Tue, 04 Feb 2025) EndedAt: 2025-02-04 11:44:40 -0500 (Tue, 04 Feb 2025) EllapsedTime: 243.3 seconds RetCode: 0 Status: OK CheckDir: twoddpcr.Rcheck Warnings: 0