Package: twoddpcr Version: 1.30.0 Command: /Library/Frameworks/R.framework/Resources/bin/R CMD INSTALL twoddpcr StartedAt: 2025-02-03 16:12:24 -0500 (Mon, 03 Feb 2025) EndedAt: 2025-02-03 16:12:49 -0500 (Mon, 03 Feb 2025) EllapsedTime: 25.1 seconds RetCode: 0 Status: OK