Package: twoddpcr Version: 1.30.0 Command: /home/biocbuild/bbs-3.20-bioc/R/bin/R CMD INSTALL twoddpcr StartedAt: 2025-02-10 15:44:09 -0500 (Mon, 10 Feb 2025) EndedAt: 2025-02-10 15:44:19 -0500 (Mon, 10 Feb 2025) EllapsedTime: 10.0 seconds RetCode: 0 Status: OK