Package: twoddpcr Version: 1.30.0 Command: rm -rf twoddpcr.buildbin-libdir && mkdir twoddpcr.buildbin-libdir && F:\biocbuild\bbs-3.20-bioc\R\bin\R.exe CMD INSTALL --build --library=twoddpcr.buildbin-libdir twoddpcr_1.30.0.tar.gz StartedAt: 2025-02-04 09:44:02 -0500 (Tue, 04 Feb 2025) EndedAt: 2025-02-04 09:44:57 -0500 (Tue, 04 Feb 2025) EllapsedTime: 54.6 seconds RetCode: 0 Status: OK PackageFile: twoddpcr_1.30.0.zip PackageFileSize: 2.94 MiB