Package: twoddpcr Version: 1.30.0 Command: F:\biocbuild\bbs-3.20-bioc\R\bin\R.exe CMD check --no-multiarch --install=check:twoddpcr.install-out.txt --library=F:\biocbuild\bbs-3.20-bioc\R\library --no-vignettes --timings twoddpcr_1.30.0.tar.gz StartedAt: 2025-02-04 07:20:40 -0500 (Tue, 04 Feb 2025) EndedAt: 2025-02-04 07:23:15 -0500 (Tue, 04 Feb 2025) EllapsedTime: 155.1 seconds RetCode: 0 Status: OK CheckDir: twoddpcr.Rcheck Warnings: 0