Package: txcutr Version: 1.12.0 Command: /home/biocbuild/bbs-3.20-bioc/R/bin/R CMD check --install=check:txcutr.install-out.txt --library=/home/biocbuild/bbs-3.20-bioc/R/site-library --timings txcutr_1.12.0.tar.gz StartedAt: 2025-02-04 03:25:57 -0500 (Tue, 04 Feb 2025) EndedAt: 2025-02-04 03:33:16 -0500 (Tue, 04 Feb 2025) EllapsedTime: 439.5 seconds RetCode: 0 Status: OK CheckDir: txcutr.Rcheck Warnings: 0