Package: txcutr Version: 1.12.0 Command: rm -rf txcutr.buildbin-libdir && mkdir txcutr.buildbin-libdir && F:\biocbuild\bbs-3.20-bioc\R\bin\R.exe CMD INSTALL --build --library=txcutr.buildbin-libdir txcutr_1.12.0.tar.gz StartedAt: 2025-02-04 09:44:04 -0500 (Tue, 04 Feb 2025) EndedAt: 2025-02-04 09:44:46 -0500 (Tue, 04 Feb 2025) EllapsedTime: 41.6 seconds RetCode: 0 Status: OK PackageFile: txcutr_1.12.0.zip PackageFileSize: 349.3 KiB