Package: txcutr Version: 1.12.0 Command: chmod a+r txcutr -R && F:\biocbuild\bbs-3.20-bioc\R\bin\R.exe CMD build --keep-empty-dirs --no-resave-data txcutr StartedAt: 2025-02-03 22:43:20 -0500 (Mon, 03 Feb 2025) EndedAt: 2025-02-03 22:45:35 -0500 (Mon, 03 Feb 2025) EllapsedTime: 135.3 seconds RetCode: 0 Status: OK PackageFile: txcutr_1.12.0.tar.gz PackageFileSize: 315.1 KiB