Package: txcutr Version: 1.12.0 Command: /home/biocbuild/R/R/bin/R CMD build --keep-empty-dirs --no-resave-data txcutr StartedAt: 2025-02-11 03:15:11 -0000 (Tue, 11 Feb 2025) EndedAt: 2025-02-11 03:16:40 -0000 (Tue, 11 Feb 2025) EllapsedTime: 89.0 seconds RetCode: 0 Status: OK PackageFile: txcutr_1.12.0.tar.gz PackageFileSize: 382.3 KiB