Package: tximeta Version: 1.24.0 Command: /Library/Frameworks/R.framework/Resources/bin/R CMD build --keep-empty-dirs --no-resave-data tximeta StartedAt: 2025-02-04 10:12:10 -0500 (Tue, 04 Feb 2025) EndedAt: 2025-02-04 10:14:14 -0500 (Tue, 04 Feb 2025) EllapsedTime: 123.3 seconds RetCode: 0 Status: OK PackageFile: tximeta_1.24.0.tar.gz PackageFileSize: 1.332 MiB