Package: tximeta Version: 1.24.0 Command: /Library/Frameworks/R.framework/Resources/bin/R CMD build --keep-empty-dirs --no-resave-data tximeta StartedAt: 2025-01-30 23:35:00 -0500 (Thu, 30 Jan 2025) EndedAt: 2025-01-30 23:38:20 -0500 (Thu, 30 Jan 2025) EllapsedTime: 200.5 seconds RetCode: 0 Status: OK PackageFile: tximeta_1.24.0.tar.gz PackageFileSize: 1.331 MiB