Package: tximeta Version: 1.24.0 Command: /home/biocbuild/bbs-3.20-bioc/R/bin/R CMD check --install=check:tximeta.install-out.txt --library=/home/biocbuild/bbs-3.20-bioc/R/site-library --timings tximeta_1.24.0.tar.gz StartedAt: 2025-02-04 03:26:01 -0500 (Tue, 04 Feb 2025) EndedAt: 2025-02-04 03:32:15 -0500 (Tue, 04 Feb 2025) EllapsedTime: 374.3 seconds RetCode: 0 Status: OK CheckDir: tximeta.Rcheck Warnings: 0