Package: tximeta Version: 1.24.0 Command: F:\biocbuild\bbs-3.20-bioc\R\bin\R.exe CMD check --no-multiarch --install=check:tximeta.install-out.txt --library=F:\biocbuild\bbs-3.20-bioc\R\library --no-vignettes --timings tximeta_1.24.0.tar.gz StartedAt: 2025-01-31 07:31:24 -0500 (Fri, 31 Jan 2025) EndedAt: 2025-01-31 07:38:17 -0500 (Fri, 31 Jan 2025) EllapsedTime: 413.0 seconds RetCode: 0 Status: OK CheckDir: tximeta.Rcheck Warnings: 0