Package: tximeta Version: 1.24.0 Command: /home/biocbuild/R/R/bin/R CMD build --keep-empty-dirs --no-resave-data tximeta StartedAt: 2025-01-31 03:20:35 -0000 (Fri, 31 Jan 2025) EndedAt: 2025-01-31 03:22:32 -0000 (Fri, 31 Jan 2025) EllapsedTime: 117.1 seconds RetCode: 0 Status: OK PackageFile: tximeta_1.24.0.tar.gz PackageFileSize: 1.396 MiB