Package: tximeta Version: 1.24.0 Command: /home/biocbuild/R/R/bin/R CMD INSTALL tximeta StartedAt: 2025-01-30 20:37:23 -0000 (Thu, 30 Jan 2025) EndedAt: 2025-01-30 20:38:10 -0000 (Thu, 30 Jan 2025) EllapsedTime: 46.9 seconds RetCode: 0 Status: OK