Package: uncoverappLib Version: 1.16.0 Command: /Library/Frameworks/R.framework/Resources/bin/R CMD build --keep-empty-dirs --no-resave-data uncoverappLib StartedAt: 2025-01-30 23:36:18 -0500 (Thu, 30 Jan 2025) EndedAt: 2025-01-30 23:39:03 -0500 (Thu, 30 Jan 2025) EllapsedTime: 164.5 seconds RetCode: 0 Status: OK PackageFile: uncoverappLib_1.16.0.tar.gz PackageFileSize: 3.43 MiB