Package: uncoverappLib Version: 1.16.0 Command: /home/biocbuild/R/R/bin/R CMD build --keep-empty-dirs --no-resave-data uncoverappLib StartedAt: 2025-01-31 03:21:53 -0000 (Fri, 31 Jan 2025) EndedAt: 2025-01-31 03:23:26 -0000 (Fri, 31 Jan 2025) EllapsedTime: 93.1 seconds RetCode: 0 Status: OK PackageFile: uncoverappLib_1.16.0.tar.gz PackageFileSize: 3.457 MiB