Package: unifiedWMWqPCR Version: 1.42.0 Command: /Library/Frameworks/R.framework/Resources/bin/R CMD INSTALL unifiedWMWqPCR StartedAt: 2025-01-30 15:13:20 -0500 (Thu, 30 Jan 2025) EndedAt: 2025-01-30 15:13:24 -0500 (Thu, 30 Jan 2025) EllapsedTime: 3.7 seconds RetCode: 0 Status: OK