Package: unifiedWMWqPCR Version: 1.42.0 Command: /Library/Frameworks/R.framework/Resources/bin/R CMD build --keep-empty-dirs --no-resave-data unifiedWMWqPCR StartedAt: 2025-01-30 23:36:33 -0500 (Thu, 30 Jan 2025) EndedAt: 2025-01-30 23:37:02 -0500 (Thu, 30 Jan 2025) EllapsedTime: 28.9 seconds RetCode: 0 Status: OK PackageFile: unifiedWMWqPCR_1.42.0.tar.gz PackageFileSize: 501.7 KiB