Package: unifiedWMWqPCR Version: 1.42.0 Command: chmod a+r unifiedWMWqPCR -R && F:\biocbuild\bbs-3.20-bioc\R\bin\R.exe CMD build --keep-empty-dirs --no-resave-data unifiedWMWqPCR StartedAt: 2025-02-03 22:44:39 -0500 (Mon, 03 Feb 2025) EndedAt: 2025-02-03 22:45:08 -0500 (Mon, 03 Feb 2025) EllapsedTime: 29.0 seconds RetCode: 0 Status: OK PackageFile: unifiedWMWqPCR_1.42.0.tar.gz PackageFileSize: 502.8 KiB